	
BEGIN:VCALENDAR
VERSION:2.0
PRODID:-//A l&#039;eau Terre-Neuve Gironde/boutique  - ECPv6.15.20//NONSGML v1.0//EN
CALSCALE:GREGORIAN
METHOD:PUBLISH
X-WR-CALNAME:A l&#039;eau Terre-Neuve Gironde/boutique 
X-ORIGINAL-URL:https://www.alotngironde.com
X-WR-CALDESC:Évènements pour A l&#039;eau Terre-Neuve Gironde/boutique 
REFRESH-INTERVAL;VALUE=DURATION:PT1H
X-Robots-Tag:noindex
X-PUBLISHED-TTL:PT1H
BEGIN:VTIMEZONE
TZID:Europe/Helsinki
BEGIN:DAYLIGHT
TZOFFSETFROM:+0200
TZOFFSETTO:+0300
TZNAME:EEST
DTSTART:20180325T010000
END:DAYLIGHT
BEGIN:STANDARD
TZOFFSETFROM:+0300
TZOFFSETTO:+0200
TZNAME:EET
DTSTART:20181028T010000
END:STANDARD
BEGIN:DAYLIGHT
TZOFFSETFROM:+0200
TZOFFSETTO:+0300
TZNAME:EEST
DTSTART:20190331T010000
END:DAYLIGHT
BEGIN:STANDARD
TZOFFSETFROM:+0300
TZOFFSETTO:+0200
TZNAME:EET
DTSTART:20191027T010000
END:STANDARD
BEGIN:DAYLIGHT
TZOFFSETFROM:+0200
TZOFFSETTO:+0300
TZNAME:EEST
DTSTART:20200329T010000
END:DAYLIGHT
BEGIN:STANDARD
TZOFFSETFROM:+0300
TZOFFSETTO:+0200
TZNAME:EET
DTSTART:20201025T010000
END:STANDARD
END:VTIMEZONE
BEGIN:VEVENT
DTSTART;TZID=Europe/Helsinki:20190811T110000
DTEND;TZID=Europe/Helsinki:20190811T170000
DTSTAMP:20260426T003550
CREATED:20181216T152222Z
LAST-MODIFIED:20181216T152434Z
UID:4854-1565521200-1565542800@www.alotngironde.com
SUMMARY:Entrainement
DESCRIPTION:Dimanche 11\nRendez-vous à 11h00\nPleine mer 15h42 Coef. 48\nTravail au sol\, pique-nique\, Travail à l’eau
URL:https://www.alotngironde.com/le-planning/entrainement-146/
LOCATION:Port du Canal – Cabane 77\, Port du Canal - Cabane 77\, Gujan-Mestras\, Gironde\, 33470\, France
CATEGORIES:ENTRAINEMENT
END:VEVENT
BEGIN:VEVENT
DTSTART;TZID=Europe/Helsinki:20190825T100000
DTEND;TZID=Europe/Helsinki:20190825T170000
DTSTAMP:20260426T003550
CREATED:20181216T152520Z
LAST-MODIFIED:20181216T152520Z
UID:4857-1566727200-1566752400@www.alotngironde.com
SUMMARY:Entrainement
DESCRIPTION:Dimanche 25\nRendez-vous à 10h00\nPleine mer 13h16 Coef. 39\nTravail à l’eau\, pique-nique\, travail au sol
URL:https://www.alotngironde.com/le-planning/entrainement-147/
LOCATION:Port du Canal – Cabane 77\, Port du Canal - Cabane 77\, Gujan-Mestras\, Gironde\, 33470\, France
CATEGORIES:ENTRAINEMENT
END:VEVENT
END:VCALENDAR