	
BEGIN:VCALENDAR
VERSION:2.0
PRODID:-//A l&#039;eau Terre-Neuve Gironde/boutique  - ECPv6.15.20//NONSGML v1.0//EN
CALSCALE:GREGORIAN
METHOD:PUBLISH
X-ORIGINAL-URL:https://www.alotngironde.com
X-WR-CALDESC:Évènements pour A l&#039;eau Terre-Neuve Gironde/boutique 
REFRESH-INTERVAL;VALUE=DURATION:PT1H
X-Robots-Tag:noindex
X-PUBLISHED-TTL:PT1H
BEGIN:VTIMEZONE
TZID:Europe/Helsinki
BEGIN:DAYLIGHT
TZOFFSETFROM:+0200
TZOFFSETTO:+0300
TZNAME:EEST
DTSTART:20180325T010000
END:DAYLIGHT
BEGIN:STANDARD
TZOFFSETFROM:+0300
TZOFFSETTO:+0200
TZNAME:EET
DTSTART:20181028T010000
END:STANDARD
BEGIN:DAYLIGHT
TZOFFSETFROM:+0200
TZOFFSETTO:+0300
TZNAME:EEST
DTSTART:20190331T010000
END:DAYLIGHT
BEGIN:STANDARD
TZOFFSETFROM:+0300
TZOFFSETTO:+0200
TZNAME:EET
DTSTART:20191027T010000
END:STANDARD
BEGIN:DAYLIGHT
TZOFFSETFROM:+0200
TZOFFSETTO:+0300
TZNAME:EEST
DTSTART:20200329T010000
END:DAYLIGHT
BEGIN:STANDARD
TZOFFSETFROM:+0300
TZOFFSETTO:+0200
TZNAME:EET
DTSTART:20201025T010000
END:STANDARD
END:VTIMEZONE
BEGIN:VEVENT
DTSTART;TZID=Europe/Helsinki:20190908T100000
DTEND;TZID=Europe/Helsinki:20190908T170000
DTSTAMP:20260425T222748
CREATED:20181216T152908Z
LAST-MODIFIED:20181216T152908Z
UID:4859-1567936800-1567962000@www.alotngironde.com
SUMMARY:Entrainement
DESCRIPTION:Dimanche 8\nRendez-vous à 10h00\nPleine mer 14h05 Coef. 38\nTravail au sol\, pique-nique\, Travail à l’eau
URL:https://www.alotngironde.com/le-planning/entrainement-148/
LOCATION:Port du Canal – Cabane 77\, Port du Canal - Cabane 77\, Gujan-Mestras\, Gironde\, 33470\, France
CATEGORIES:ENTRAINEMENT
END:VEVENT
BEGIN:VEVENT
DTSTART;TZID=Europe/Helsinki:20190922T100000
DTEND;TZID=Europe/Helsinki:20190922T170000
DTSTAMP:20260425T222748
CREATED:20181216T153224Z
LAST-MODIFIED:20181216T153224Z
UID:4861-1569146400-1569171600@www.alotngironde.com
SUMMARY:Entrainement
DESCRIPTION:Dimanche 22\nRendez-vous à 10h00\nPleine mer 11h24 Coef. 42\nTravail à l’eau\, pique-nique\,Travail au sol
URL:https://www.alotngironde.com/le-planning/entrainement-149/
LOCATION:Port du Canal – Cabane 77\, Port du Canal - Cabane 77\, Gujan-Mestras\, Gironde\, 33470\, France
CATEGORIES:ENTRAINEMENT
END:VEVENT
END:VCALENDAR