	
BEGIN:VCALENDAR
VERSION:2.0
PRODID:-//A l&#039;eau Terre-Neuve Gironde/boutique  - ECPv6.15.20//NONSGML v1.0//EN
CALSCALE:GREGORIAN
METHOD:PUBLISH
X-ORIGINAL-URL:https://www.alotngironde.com
X-WR-CALDESC:Évènements pour A l&#039;eau Terre-Neuve Gironde/boutique 
REFRESH-INTERVAL;VALUE=DURATION:PT1H
X-Robots-Tag:noindex
X-PUBLISHED-TTL:PT1H
BEGIN:VTIMEZONE
TZID:Europe/Helsinki
BEGIN:DAYLIGHT
TZOFFSETFROM:+0200
TZOFFSETTO:+0300
TZNAME:EEST
DTSTART:20180325T010000
END:DAYLIGHT
BEGIN:STANDARD
TZOFFSETFROM:+0300
TZOFFSETTO:+0200
TZNAME:EET
DTSTART:20181028T010000
END:STANDARD
BEGIN:DAYLIGHT
TZOFFSETFROM:+0200
TZOFFSETTO:+0300
TZNAME:EEST
DTSTART:20190331T010000
END:DAYLIGHT
BEGIN:STANDARD
TZOFFSETFROM:+0300
TZOFFSETTO:+0200
TZNAME:EET
DTSTART:20191027T010000
END:STANDARD
BEGIN:DAYLIGHT
TZOFFSETFROM:+0200
TZOFFSETTO:+0300
TZNAME:EEST
DTSTART:20200329T010000
END:DAYLIGHT
BEGIN:STANDARD
TZOFFSETFROM:+0300
TZOFFSETTO:+0200
TZNAME:EET
DTSTART:20201025T010000
END:STANDARD
END:VTIMEZONE
BEGIN:VEVENT
DTSTART;TZID=Europe/Helsinki:20191006T100000
DTEND;TZID=Europe/Helsinki:20191006T170000
DTSTAMP:20260425T203351
CREATED:20181216T153343Z
LAST-MODIFIED:20181216T153343Z
UID:4863-1570356000-1570381200@www.alotngironde.com
SUMMARY:Entrainement
DESCRIPTION:Dimanche 6\nRendez-vous à 10h00\nPleine mer12h04 Coef. 37\nTravail à l’eau\, pique-nique\, travail au sol
URL:https://www.alotngironde.com/le-planning/entrainement-150/
LOCATION:Port du Canal – Cabane 77\, Port du Canal - Cabane 77\, Gujan-Mestras\, Gironde\, 33470\, France
CATEGORIES:ENTRAINEMENT
END:VEVENT
BEGIN:VEVENT
DTSTART;TZID=Europe/Helsinki:20191020T093000
DTEND;TZID=Europe/Helsinki:20191020T170000
DTSTAMP:20260425T203351
CREATED:20181216T153443Z
LAST-MODIFIED:20181216T153443Z
UID:4865-1571563800-1571590800@www.alotngironde.com
SUMMARY:Entrainement
DESCRIPTION:Dimanche 20\nRendez-vous à 09h30\nPleine mer 10h04 Coef. 55\nTravail à l’eau \, pique-nique\, travail au sol
URL:https://www.alotngironde.com/le-planning/entrainement-151/
LOCATION:Port du Canal – Cabane 77\, Port du Canal - Cabane 77\, Gujan-Mestras\, Gironde\, 33470\, France
CATEGORIES:ENTRAINEMENT
END:VEVENT
END:VCALENDAR