	
BEGIN:VCALENDAR
VERSION:2.0
PRODID:-//A l&#039;eau Terre-Neuve Gironde/boutique  - ECPv6.15.20//NONSGML v1.0//EN
CALSCALE:GREGORIAN
METHOD:PUBLISH
X-WR-CALNAME:A l&#039;eau Terre-Neuve Gironde/boutique 
X-ORIGINAL-URL:https://www.alotngironde.com
X-WR-CALDESC:Évènements pour A l&#039;eau Terre-Neuve Gironde/boutique 
REFRESH-INTERVAL;VALUE=DURATION:PT1H
X-Robots-Tag:noindex
X-PUBLISHED-TTL:PT1H
BEGIN:VTIMEZONE
TZID:Europe/Helsinki
BEGIN:DAYLIGHT
TZOFFSETFROM:+0200
TZOFFSETTO:+0300
TZNAME:EEST
DTSTART:20180325T010000
END:DAYLIGHT
BEGIN:STANDARD
TZOFFSETFROM:+0300
TZOFFSETTO:+0200
TZNAME:EET
DTSTART:20181028T010000
END:STANDARD
BEGIN:DAYLIGHT
TZOFFSETFROM:+0200
TZOFFSETTO:+0300
TZNAME:EEST
DTSTART:20190331T010000
END:DAYLIGHT
BEGIN:STANDARD
TZOFFSETFROM:+0300
TZOFFSETTO:+0200
TZNAME:EET
DTSTART:20191027T010000
END:STANDARD
BEGIN:DAYLIGHT
TZOFFSETFROM:+0200
TZOFFSETTO:+0300
TZNAME:EEST
DTSTART:20200329T010000
END:DAYLIGHT
BEGIN:STANDARD
TZOFFSETFROM:+0300
TZOFFSETTO:+0200
TZNAME:EET
DTSTART:20201025T010000
END:STANDARD
END:VTIMEZONE
BEGIN:VEVENT
DTSTART;TZID=Europe/Helsinki:20191103T090000
DTEND;TZID=Europe/Helsinki:20191103T170000
DTSTAMP:20260425T185207
CREATED:20181216T153534Z
LAST-MODIFIED:20181216T153534Z
UID:4867-1572771600-1572800400@www.alotngironde.com
SUMMARY:Entrainement
DESCRIPTION:Dimanche 3\nRendez-vous à 09h00\nPleine mer 09h22 Coef. 51\nTravail à l’eau \, pique-nique\, travail au sol
URL:https://www.alotngironde.com/le-planning/entrainement-152/
LOCATION:Port du Canal – Cabane 77\, Port du Canal - Cabane 77\, Gujan-Mestras\, Gironde\, 33470\, France
CATEGORIES:ENTRAINEMENT
END:VEVENT
BEGIN:VEVENT
DTSTART;TZID=Europe/Helsinki:20191110T110000
DTEND;TZID=Europe/Helsinki:20191110T170000
DTSTAMP:20260425T185207
CREATED:20181216T153653Z
LAST-MODIFIED:20191031T192801Z
UID:4869-1573383600-1573405200@www.alotngironde.com
SUMMARY:Entrainement
DESCRIPTION:Dimanche 10\nRendez-vous à 11h00\nPleine mer 16h 11 Coef. 71\nTravail au sol\, pique-nique\, Travail à l’eau
URL:https://www.alotngironde.com/le-planning/entrainement-153/
LOCATION:Port du Canal – Cabane 77\, Port du Canal - Cabane 77\, Gujan-Mestras\, Gironde\, 33470\, France
CATEGORIES:ENTRAINEMENT
END:VEVENT
BEGIN:VEVENT
DTSTART;TZID=Europe/Helsinki:20191124T110000
DTEND;TZID=Europe/Helsinki:20191124T170000
DTSTAMP:20260425T185207
CREATED:20181216T153744Z
LAST-MODIFIED:20191117T153356Z
UID:4871-1574593200-1574614800@www.alotngironde.com
SUMMARY:Le repas de fin d'année 2019
DESCRIPTION:Dimanche 24 \nLe repas de fin d’année 2019
URL:https://www.alotngironde.com/le-planning/entrainement-154/
LOCATION:Port du Canal – Cabane 77\, Port du Canal - Cabane 77\, Gujan-Mestras\, Gironde\, 33470\, France
CATEGORIES:ENTRAINEMENT
END:VEVENT
END:VCALENDAR