	
BEGIN:VCALENDAR
VERSION:2.0
PRODID:-//A l&#039;eau Terre-Neuve Gironde/boutique  - ECPv6.15.20//NONSGML v1.0//EN
CALSCALE:GREGORIAN
METHOD:PUBLISH
X-WR-CALNAME:A l&#039;eau Terre-Neuve Gironde/boutique 
X-ORIGINAL-URL:https://www.alotngironde.com
X-WR-CALDESC:Évènements pour A l&#039;eau Terre-Neuve Gironde/boutique 
REFRESH-INTERVAL;VALUE=DURATION:PT1H
X-Robots-Tag:noindex
X-PUBLISHED-TTL:PT1H
BEGIN:VTIMEZONE
TZID:Europe/Helsinki
BEGIN:DAYLIGHT
TZOFFSETFROM:+0200
TZOFFSETTO:+0300
TZNAME:EEST
DTSTART:20190331T010000
END:DAYLIGHT
BEGIN:STANDARD
TZOFFSETFROM:+0300
TZOFFSETTO:+0200
TZNAME:EET
DTSTART:20191027T010000
END:STANDARD
BEGIN:DAYLIGHT
TZOFFSETFROM:+0200
TZOFFSETTO:+0300
TZNAME:EEST
DTSTART:20200329T010000
END:DAYLIGHT
BEGIN:STANDARD
TZOFFSETFROM:+0300
TZOFFSETTO:+0200
TZNAME:EET
DTSTART:20201025T010000
END:STANDARD
BEGIN:DAYLIGHT
TZOFFSETFROM:+0200
TZOFFSETTO:+0300
TZNAME:EEST
DTSTART:20210328T010000
END:DAYLIGHT
BEGIN:STANDARD
TZOFFSETFROM:+0300
TZOFFSETTO:+0200
TZNAME:EET
DTSTART:20211031T010000
END:STANDARD
END:VTIMEZONE
BEGIN:VEVENT
DTSTART;TZID=Europe/Helsinki:20200105T120000
DTEND;TZID=Europe/Helsinki:20200105T160000
DTSTAMP:20260425T152726
CREATED:20191208T170520Z
LAST-MODIFIED:20191208T170520Z
UID:5295-1578225600-1578240000@www.alotngironde.com
SUMMARY:Galettes des rois
DESCRIPTION:Dimanche 5 janvier 2020\nRendez-vous 12H00 – Galettes des rois
URL:https://www.alotngironde.com/le-planning/galettes-des-rois/
LOCATION:Port du Canal – Cabane 77\, Port du Canal - Cabane 77\, Gujan-Mestras\, Gironde\, 33470\, France
CATEGORIES:ENTRAINEMENT
END:VEVENT
BEGIN:VEVENT
DTSTART;TZID=Europe/Helsinki:20200119T110000
DTEND;TZID=Europe/Helsinki:20200119T170000
DTSTAMP:20260425T152726
CREATED:20191208T170637Z
LAST-MODIFIED:20191208T170637Z
UID:5297-1579431600-1579453200@www.alotngironde.com
SUMMARY:Entrainement
DESCRIPTION:Dimanche 19 janvier 2020\nPleine mer 12 :49 Coeff. 056\nRendez-vous à 11h\nTravail à l’eau-Repas-Travail au sol
URL:https://www.alotngironde.com/le-planning/entrainement-157/
LOCATION:Port du Canal – Cabane 77\, Port du Canal - Cabane 77\, Gujan-Mestras\, Gironde\, 33470\, France
CATEGORIES:ENTRAINEMENT
END:VEVENT
END:VCALENDAR