	
BEGIN:VCALENDAR
VERSION:2.0
PRODID:-//A l&#039;eau Terre-Neuve Gironde/boutique  - ECPv6.15.20//NONSGML v1.0//EN
CALSCALE:GREGORIAN
METHOD:PUBLISH
X-ORIGINAL-URL:https://www.alotngironde.com
X-WR-CALDESC:Évènements pour A l&#039;eau Terre-Neuve Gironde/boutique 
REFRESH-INTERVAL;VALUE=DURATION:PT1H
X-Robots-Tag:noindex
X-PUBLISHED-TTL:PT1H
BEGIN:VTIMEZONE
TZID:Europe/Helsinki
BEGIN:DAYLIGHT
TZOFFSETFROM:+0200
TZOFFSETTO:+0300
TZNAME:EEST
DTSTART:20250330T010000
END:DAYLIGHT
BEGIN:STANDARD
TZOFFSETFROM:+0300
TZOFFSETTO:+0200
TZNAME:EET
DTSTART:20251026T010000
END:STANDARD
BEGIN:DAYLIGHT
TZOFFSETFROM:+0200
TZOFFSETTO:+0300
TZNAME:EEST
DTSTART:20260329T010000
END:DAYLIGHT
BEGIN:STANDARD
TZOFFSETFROM:+0300
TZOFFSETTO:+0200
TZNAME:EET
DTSTART:20261025T010000
END:STANDARD
BEGIN:DAYLIGHT
TZOFFSETFROM:+0200
TZOFFSETTO:+0300
TZNAME:EEST
DTSTART:20270328T010000
END:DAYLIGHT
BEGIN:STANDARD
TZOFFSETFROM:+0300
TZOFFSETTO:+0200
TZNAME:EET
DTSTART:20271031T010000
END:STANDARD
END:VTIMEZONE
BEGIN:VEVENT
DTSTART;TZID=Europe/Helsinki:20260208T090000
DTEND;TZID=Europe/Helsinki:20260208T170000
DTSTAMP:20260425T205549
CREATED:20260110T162821Z
LAST-MODIFIED:20260110T162821Z
UID:14080-1770541200-1770570000@www.alotngironde.com
SUMMARY:Entraînement Sauvetage Aquatique
DESCRIPTION:Entraînement Sauvetage Aquatique \ndimanche 8 février                         Marée haute   09:20 – Coeff.59 -RV 9H
URL:https://www.alotngironde.com/le-planning/entrainement-sauvetage-aquatique-106/
LOCATION:Port du Canal – Cabane 77\, Port du Canal - Cabane 77\, Gujan-Mestras\, Gironde\, 33470\, France
CATEGORIES:ENTRAINEMENT
END:VEVENT
BEGIN:VEVENT
DTSTART;TZID=Europe/Helsinki:20260215T110000
DTEND;TZID=Europe/Helsinki:20260215T170000
DTSTAMP:20260425T205549
CREATED:20260110T163143Z
LAST-MODIFIED:20260110T163143Z
UID:14082-1771153200-1771174800@www.alotngironde.com
SUMMARY:Entraînement Sauvetage Aquatique
DESCRIPTION:Entraînement Sauvetage Aquatique \ndimanche 15 février                       Marée haute  16:38 – Coeff.68-  \nHEURE DE RENDEZ-VOUS A DEFINIR
URL:https://www.alotngironde.com/le-planning/entrainement-sauvetage-aquatique-107/
LOCATION:Port du Canal – Cabane 77\, Port du Canal - Cabane 77\, Gujan-Mestras\, Gironde\, 33470\, France
CATEGORIES:ENTRAINEMENT
END:VEVENT
END:VCALENDAR